BEGIN:VCALENDAR
VERSION:2.0
PRODID:-//Blue Ridge Fiber Guild - ECPv6.15.20//NONSGML v1.0//EN
CALSCALE:GREGORIAN
METHOD:PUBLISH
X-WR-CALNAME:Blue Ridge Fiber Guild
X-ORIGINAL-URL:https://blueridgefiberguild.org
X-WR-CALDESC:Events for Blue Ridge Fiber Guild
REFRESH-INTERVAL;VALUE=DURATION:PT1H
X-Robots-Tag:noindex
X-PUBLISHED-TTL:PT1H
BEGIN:VTIMEZONE
TZID:America/New_York
BEGIN:DAYLIGHT
TZOFFSETFROM:-0500
TZOFFSETTO:-0400
TZNAME:EDT
DTSTART:20250309T070000
END:DAYLIGHT
BEGIN:STANDARD
TZOFFSETFROM:-0400
TZOFFSETTO:-0500
TZNAME:EST
DTSTART:20251102T060000
END:STANDARD
BEGIN:DAYLIGHT
TZOFFSETFROM:-0500
TZOFFSETTO:-0400
TZNAME:EDT
DTSTART:20260308T070000
END:DAYLIGHT
BEGIN:STANDARD
TZOFFSETFROM:-0400
TZOFFSETTO:-0500
TZNAME:EST
DTSTART:20261101T060000
END:STANDARD
BEGIN:DAYLIGHT
TZOFFSETFROM:-0500
TZOFFSETTO:-0400
TZNAME:EDT
DTSTART:20270314T070000
END:DAYLIGHT
BEGIN:STANDARD
TZOFFSETFROM:-0400
TZOFFSETTO:-0500
TZNAME:EST
DTSTART:20271107T060000
END:STANDARD
END:VTIMEZONE
BEGIN:VEVENT
DTSTART;VALUE=DATE:20260601
DTEND;VALUE=DATE:20260701
DTSTAMP:20260423T143104
CREATED:20260302T010100Z
LAST-MODIFIED:20260302T010100Z
UID:2961-1780272000-1782863999@blueridgefiberguild.org
SUMMARY:Jones House Exhibit
DESCRIPTION:More Information Coming Soon!
URL:https://blueridgefiberguild.org/event/jones-house-exhibit/
LOCATION:Jones House Cultural and Community Center\, 604 W King Street\, Boone\, NC\, 28607
CATEGORIES:Exhibits and Shows
END:VEVENT
BEGIN:VEVENT
DTSTART;TZID=America/New_York:20260620T103000
DTEND;TZID=America/New_York:20260620T123000
DTSTAMP:20260423T143104
CREATED:20260302T002441Z
LAST-MODIFIED:20260303T155357Z
UID:2928-1781951400-1781958600@blueridgefiberguild.org
SUMMARY:June 2026 Guild Meeting: Coiled Baskets with Vicki Skywark
DESCRIPTION:Wind your way to a beautiful coiled basket at this workshop! You’ll learn the skills of this ancient craft developed around the world utilizing natural and found materials. \nBring your own materials such as twine\, scrap yarn\, rush or plant fiber; cordage made from plastic or paper bags. You’ll also need a tapestry needle\, sharp scissors\, and a willingness to experiment as you build a container for your creative imaginings. Basic materials will be available at the meeting. 
URL:https://blueridgefiberguild.org/event/june-2026-guild-meeting-coiled-baskets-with-vicki-skywark/
LOCATION:Watauga Arts Council\, 377 Shadowline Drive\, Boone\, NC\, 28607\, United States
CATEGORIES:Member Meeting
ATTACH;FMTTYPE=image/jpeg:https://blueridgefiberguild.org/wp-content/uploads/2026/03/IMG_1130-e1772553417609.jpeg
ORGANIZER;CN="Blue Ridge Fiber Guild":MAILTO:brfg@blueridgefiberguild.org
END:VEVENT
END:VCALENDAR