BEGIN:VCALENDAR
VERSION:2.0
PRODID:-//Blue Ridge Fiber Guild - ECPv6.15.20//NONSGML v1.0//EN
CALSCALE:GREGORIAN
METHOD:PUBLISH
X-WR-CALNAME:Blue Ridge Fiber Guild
X-ORIGINAL-URL:https://blueridgefiberguild.org
X-WR-CALDESC:Events for Blue Ridge Fiber Guild
REFRESH-INTERVAL;VALUE=DURATION:PT1H
X-Robots-Tag:noindex
X-PUBLISHED-TTL:PT1H
BEGIN:VTIMEZONE
TZID:America/New_York
BEGIN:DAYLIGHT
TZOFFSETFROM:-0500
TZOFFSETTO:-0400
TZNAME:EDT
DTSTART:20240310T070000
END:DAYLIGHT
BEGIN:STANDARD
TZOFFSETFROM:-0400
TZOFFSETTO:-0500
TZNAME:EST
DTSTART:20241103T060000
END:STANDARD
BEGIN:DAYLIGHT
TZOFFSETFROM:-0500
TZOFFSETTO:-0400
TZNAME:EDT
DTSTART:20250309T070000
END:DAYLIGHT
BEGIN:STANDARD
TZOFFSETFROM:-0400
TZOFFSETTO:-0500
TZNAME:EST
DTSTART:20251102T060000
END:STANDARD
BEGIN:DAYLIGHT
TZOFFSETFROM:-0500
TZOFFSETTO:-0400
TZNAME:EDT
DTSTART:20260308T070000
END:DAYLIGHT
BEGIN:STANDARD
TZOFFSETFROM:-0400
TZOFFSETTO:-0500
TZNAME:EST
DTSTART:20261101T060000
END:STANDARD
END:VTIMEZONE
BEGIN:VEVENT
DTSTART;TZID=America/New_York:20250908T093000
DTEND;TZID=America/New_York:20251030T170000
DTSTAMP:20260423T194243
CREATED:20250913T153106Z
LAST-MODIFIED:20250915T025804Z
UID:2744-1757323800-1761843600@blueridgefiberguild.org
SUMMARY:Members Exhibit and Sale at Watauga Arts Council
DESCRIPTION:A public opportunity to see and buy handcrafted art by our member artisans. Open Weekdays only. Encourage your friends to stop by and pick out that special holiday gift!  Artists’ reception is Friday\, September 26 at 5 PM.
URL:https://blueridgefiberguild.org/event/members-exhibit-and-sale/
LOCATION:Watauga Arts Council\, 377 Shadowline Drive\, Boone\, NC\, 28607\, United States
CATEGORIES:Exhibits and Shows
ATTACH;FMTTYPE=image/jpeg:https://blueridgefiberguild.org/wp-content/uploads/2025/09/image0.jpeg
ORGANIZER;CN="Blue Ridge Fiber Guild":MAILTO:brfg@blueridgefiberguild.org
END:VEVENT
END:VCALENDAR