BEGIN:VCALENDAR
VERSION:2.0
PRODID:-//Blue Ridge Fiber Guild - ECPv6.15.20//NONSGML v1.0//EN
CALSCALE:GREGORIAN
METHOD:PUBLISH
X-ORIGINAL-URL:https://blueridgefiberguild.org
X-WR-CALDESC:Events for Blue Ridge Fiber Guild
REFRESH-INTERVAL;VALUE=DURATION:PT1H
X-Robots-Tag:noindex
X-PUBLISHED-TTL:PT1H
BEGIN:VTIMEZONE
TZID:America/New_York
BEGIN:DAYLIGHT
TZOFFSETFROM:-0500
TZOFFSETTO:-0400
TZNAME:EDT
DTSTART:20240310T070000
END:DAYLIGHT
BEGIN:STANDARD
TZOFFSETFROM:-0400
TZOFFSETTO:-0500
TZNAME:EST
DTSTART:20241103T060000
END:STANDARD
BEGIN:DAYLIGHT
TZOFFSETFROM:-0500
TZOFFSETTO:-0400
TZNAME:EDT
DTSTART:20250309T070000
END:DAYLIGHT
BEGIN:STANDARD
TZOFFSETFROM:-0400
TZOFFSETTO:-0500
TZNAME:EST
DTSTART:20251102T060000
END:STANDARD
BEGIN:DAYLIGHT
TZOFFSETFROM:-0500
TZOFFSETTO:-0400
TZNAME:EDT
DTSTART:20260308T070000
END:DAYLIGHT
BEGIN:STANDARD
TZOFFSETFROM:-0400
TZOFFSETTO:-0500
TZNAME:EST
DTSTART:20261101T060000
END:STANDARD
BEGIN:DAYLIGHT
TZOFFSETFROM:-0500
TZOFFSETTO:-0400
TZNAME:EDT
DTSTART:20270314T070000
END:DAYLIGHT
BEGIN:STANDARD
TZOFFSETFROM:-0400
TZOFFSETTO:-0500
TZNAME:EST
DTSTART:20271107T060000
END:STANDARD
END:VTIMEZONE
BEGIN:VEVENT
DTSTART;VALUE=DATE:20260101
DTEND;VALUE=DATE:20260226
DTSTAMP:20260423T095417
CREATED:20251220T025843Z
LAST-MODIFIED:20251220T142142Z
UID:2896-1767225600-1772063999@blueridgefiberguild.org
SUMMARY:Northwest NC Visitor Center Show
DESCRIPTION:Guild members are invited to showcase work at the Northwest NC Visitor Center in Wilkesboro from January 1st to February 25th\, 2026! Submissions can be made through the jotform and must be submitted by Wednesday\, December 31st. Items must be prepared for easy hanging. For wearable items\, please provide a black or beige flocked hanger. Please contact Susan Payne or Susan Sharpe with questions! 
URL:https://blueridgefiberguild.org/event/northwest-nc-visitor-center-show/
LOCATION:Northwest North Carolina Visitor Center\, 2121 East Hwy 421 N\, Wilkesboro\, NC\, 28659\, United States
CATEGORIES:Exhibits and Shows
ATTACH;FMTTYPE=image/jpeg:https://blueridgefiberguild.org/wp-content/uploads/2024/01/IMG_20240103_123600647-scaled-e1766240433951.jpg
ORGANIZER;CN="Blue Ridge Fiber Guild":MAILTO:brfg@blueridgefiberguild.org
END:VEVENT
BEGIN:VEVENT
DTSTART;TZID=America/New_York:20251107T160000
DTEND;TZID=America/New_York:20251107T180000
DTSTAMP:20260423T095417
CREATED:20250913T155622Z
LAST-MODIFIED:20250913T155622Z
UID:2757-1762531200-1762538400@blueridgefiberguild.org
SUMMARY:Johnson County Reception
DESCRIPTION:Come celebrate the artistry of the Blue Ridge Fiber Guild at the opening of their newest show\, featuring stunning works by a talented community of knitters\, felters\, weavers\, spinners\, and fabric artists. Known for keeping traditional fiber arts alive while exploring bold contemporary techniques\, the Guild brings together makers from across the High Country who are passionate about color\, texture\, and creative expression. Join us for an evening of live music\, refreshments\, and inspiring conversations as we showcase the incredible skill and imagination behind each handcrafted piece. Expect live music and refreshments.
URL:https://blueridgefiberguild.org/event/johnson-county-reception/
LOCATION:Johnson County Center for the Arts\, 129 W Main St\, Mountain City\, TN\, 37683\, United States
CATEGORIES:Exhibits and Shows
END:VEVENT
BEGIN:VEVENT
DTSTART;TZID=America/New_York:20251103T080000
DTEND;TZID=America/New_York:20251128T170000
DTSTAMP:20260423T095417
CREATED:20250913T155440Z
LAST-MODIFIED:20250913T155440Z
UID:2751-1762156800-1764349200@blueridgefiberguild.org
SUMMARY:Johnson County Center for the Arts
DESCRIPTION:In case you missed the show in Boone\, you’re not too late to make that important holiday gift purchase of handcrafted art! Members’ work will move to Johnson County TN in November.
URL:https://blueridgefiberguild.org/event/johnson-county-center-for-the-arts/
LOCATION:Johnson County Center for the Arts\, 129 W Main St\, Mountain City\, TN\, 37683\, United States
CATEGORIES:Exhibits and Shows
ORGANIZER;CN="Blue Ridge Fiber Guild":MAILTO:brfg@blueridgefiberguild.org
END:VEVENT
BEGIN:VEVENT
DTSTART;TZID=America/New_York:20250908T093000
DTEND;TZID=America/New_York:20251030T170000
DTSTAMP:20260423T095417
CREATED:20250913T153106Z
LAST-MODIFIED:20250915T025804Z
UID:2744-1757323800-1761843600@blueridgefiberguild.org
SUMMARY:Members Exhibit and Sale at Watauga Arts Council
DESCRIPTION:A public opportunity to see and buy handcrafted art by our member artisans. Open Weekdays only. Encourage your friends to stop by and pick out that special holiday gift!  Artists’ reception is Friday\, September 26 at 5 PM.
URL:https://blueridgefiberguild.org/event/members-exhibit-and-sale/
LOCATION:Watauga Arts Council\, 377 Shadowline Drive\, Boone\, NC\, 28607\, United States
CATEGORIES:Exhibits and Shows
ATTACH;FMTTYPE=image/jpeg:https://blueridgefiberguild.org/wp-content/uploads/2025/09/image0.jpeg
ORGANIZER;CN="Blue Ridge Fiber Guild":MAILTO:brfg@blueridgefiberguild.org
END:VEVENT
BEGIN:VEVENT
DTSTART;TZID=America/New_York:20250701T153000
DTEND;TZID=America/New_York:20250701T183000
DTSTAMP:20260423T095417
CREATED:20250701T020947Z
LAST-MODIFIED:20250701T021046Z
UID:2657-1751383800-1751394600@blueridgefiberguild.org
SUMMARY:King Street Market
DESCRIPTION:Visit the Guild and try your hand at knitting or weaving— whatever our members bring to demonstrate. Some crafters bring items to sell! It’s a fun event subject to weather\, so check the forecast before setting out. 
URL:https://blueridgefiberguild.org/event/king-street-market-2/
LOCATION:King Street Market\, 126 Poplar Grove Connector\, Boone\, NC\, 28607\, United States
CATEGORIES:Exhibits and Shows
ATTACH;FMTTYPE=image/jpeg:https://blueridgefiberguild.org/wp-content/uploads/2025/06/IMG_0079-e1751335680347.jpeg
ORGANIZER;CN="Blue Ridge Fiber Guild":MAILTO:brfg@blueridgefiberguild.org
END:VEVENT
BEGIN:VEVENT
DTSTART;TZID=America/New_York:20250606T170000
DTEND;TZID=America/New_York:20250606T190000
DTSTAMP:20260423T095417
CREATED:20250601T170234Z
LAST-MODIFIED:20250601T204013Z
UID:2611-1749229200-1749236400@blueridgefiberguild.org
SUMMARY:Jones House Reception
DESCRIPTION:Please join us for a community celebration of the Blue Ridge Fiber Guild’s Jones House Show\, this First Friday at 5:00 PM. You’ll find handcrafted fiber items\, including quilts\, tapestries\, and much more. Guild members will be on hand to answer your questions about their work.
URL:https://blueridgefiberguild.org/event/jones-house-reception/
LOCATION:Jones House Cultural and Community Center\, 604 W King Street\, Boone\, NC\, 28607
CATEGORIES:Exhibits and Shows
ORGANIZER;CN="Blue Ridge Fiber Guild":MAILTO:brfg@blueridgefiberguild.org
END:VEVENT
BEGIN:VEVENT
DTSTART;TZID=America/New_York:20250602T120000
DTEND;TZID=America/New_York:20250630T120000
DTSTAMP:20260423T095417
CREATED:20250520T000050Z
LAST-MODIFIED:20250608T215958Z
UID:2420-1748865600-1751284800@blueridgefiberguild.org
SUMMARY:Jones House Show
DESCRIPTION:Guild members will show selected works at this  annual show for the entire month of June. 
URL:https://blueridgefiberguild.org/event/jones-house-show/
LOCATION:Jones House Cultural and Community Center\, 604 W King Street\, Boone\, NC\, 28607
CATEGORIES:Exhibits and Shows
ATTACH;FMTTYPE=image/jpeg:https://blueridgefiberguild.org/wp-content/uploads/2024/06/IMG_20240603_114853839-1-scaled.jpg
ORGANIZER;CN="Blue Ridge Fiber Guild":MAILTO:brfg@blueridgefiberguild.org
END:VEVENT
END:VCALENDAR