BEGIN:VCALENDAR
VERSION:2.0
PRODID:-//Blue Ridge Fiber Guild - ECPv6.15.20//NONSGML v1.0//EN
CALSCALE:GREGORIAN
METHOD:PUBLISH
X-ORIGINAL-URL:https://blueridgefiberguild.org
X-WR-CALDESC:Events for Blue Ridge Fiber Guild
REFRESH-INTERVAL;VALUE=DURATION:PT1H
X-Robots-Tag:noindex
X-PUBLISHED-TTL:PT1H
BEGIN:VTIMEZONE
TZID:America/New_York
BEGIN:DAYLIGHT
TZOFFSETFROM:-0500
TZOFFSETTO:-0400
TZNAME:EDT
DTSTART:20240310T070000
END:DAYLIGHT
BEGIN:STANDARD
TZOFFSETFROM:-0400
TZOFFSETTO:-0500
TZNAME:EST
DTSTART:20241103T060000
END:STANDARD
BEGIN:DAYLIGHT
TZOFFSETFROM:-0500
TZOFFSETTO:-0400
TZNAME:EDT
DTSTART:20250309T070000
END:DAYLIGHT
BEGIN:STANDARD
TZOFFSETFROM:-0400
TZOFFSETTO:-0500
TZNAME:EST
DTSTART:20251102T060000
END:STANDARD
BEGIN:DAYLIGHT
TZOFFSETFROM:-0500
TZOFFSETTO:-0400
TZNAME:EDT
DTSTART:20260308T070000
END:DAYLIGHT
BEGIN:STANDARD
TZOFFSETFROM:-0400
TZOFFSETTO:-0500
TZNAME:EST
DTSTART:20261101T060000
END:STANDARD
BEGIN:DAYLIGHT
TZOFFSETFROM:-0500
TZOFFSETTO:-0400
TZNAME:EDT
DTSTART:20270314T070000
END:DAYLIGHT
BEGIN:STANDARD
TZOFFSETFROM:-0400
TZOFFSETTO:-0500
TZNAME:EST
DTSTART:20271107T060000
END:STANDARD
END:VTIMEZONE
BEGIN:VEVENT
DTSTART;TZID=America/New_York:20260328T100000
DTEND;TZID=America/New_York:20260328T130000
DTSTAMP:20260423T095057
CREATED:20260302T004424Z
LAST-MODIFIED:20260302T004424Z
UID:2945-1774692000-1774702800@blueridgefiberguild.org
SUMMARY:Intro to Fiber Workshop Series: Basic Tapestry Weaving
DESCRIPTION:Learn the basics of tapestry loom weaving on a take-home reusable cardboard loom! All materials are provided\, but students are welcome to bring yarn and buttons if they wish. \n\nOpen to students ages 12+\n\nRegister here! \n\nPlease contact the instructor\, Sali Gill-Johnson\, regarding any questions you may have about this workshop: saligilljohnson@gmail.com
URL:https://blueridgefiberguild.org/event/intro-to-fiber-workshop-series-basic-tapestry-weaving/
LOCATION:Watauga Arts Council\, 377 Shadowline Drive\, Boone\, NC\, 28607\, United States
CATEGORIES:Fiber Series
END:VEVENT
BEGIN:VEVENT
DTSTART;TZID=America/New_York:20251206T100000
DTEND;TZID=America/New_York:20251206T130000
DTSTAMP:20260423T095057
CREATED:20251129T010250Z
LAST-MODIFIED:20251129T010712Z
UID:2884-1765015200-1765026000@blueridgefiberguild.org
SUMMARY:Fiber Series: Weave with an Inkle Loom!
DESCRIPTION:Students will learn the fundamentals of plain weave and techniques to create neat selvages and even tension on an inkle loom. Participants will weave and complete a project such as a bookmark\, key fob\, hat band or strap! \nPlease contact the instructor\, Kerry Masarik\, regarding any questions you may have about this workshop: hornandfiber@gmail.com \nRegister here.
URL:https://blueridgefiberguild.org/event/fiber-series-weave-with-an-inkle-loom/
LOCATION:Watauga Arts Council\, 377 Shadowline Drive\, Boone\, NC\, 28607\, United States
CATEGORIES:Fiber Series
ATTACH;FMTTYPE=image/jpeg:https://blueridgefiberguild.org/wp-content/uploads/2025/11/IMG_1060-e1764378256630.jpeg
END:VEVENT
BEGIN:VEVENT
DTSTART;TZID=America/New_York:20250823T100000
DTEND;TZID=America/New_York:20250823T130000
DTSTAMP:20260423T095057
CREATED:20250209T173358Z
LAST-MODIFIED:20250812T231808Z
UID:1981-1755943200-1755954000@blueridgefiberguild.org
SUMMARY:Natural Dyes
DESCRIPTION:Learn about dye plants\, then dye mini-skeins of wool to obtain different colors and values \nInstructor: Deborah E. Carroll \nRegister here: \nhttps://wac-arts-ed.corsizio.com/event/67a2566412fb71356586901c
URL:https://blueridgefiberguild.org/event/natural-dyes/
LOCATION:Watauga Arts Council\, 377 Shadowline Drive\, Boone\, NC\, 28607\, United States
CATEGORIES:Fiber Series
ATTACH;FMTTYPE=image/jpeg:https://blueridgefiberguild.org/wp-content/uploads/2025/02/Tapestry-scaled-e1755040921858.jpeg
ORGANIZER;CN="Blue Ridge Fiber Guild":MAILTO:brfg@blueridgefiberguild.org
END:VEVENT
BEGIN:VEVENT
DTSTART;TZID=America/New_York:20250726T100000
DTEND;TZID=America/New_York:20250726T130000
DTSTAMP:20260423T095057
CREATED:20250209T173039Z
LAST-MODIFIED:20250210T191034Z
UID:1979-1753524000-1753534800@blueridgefiberguild.org
SUMMARY:Beginner Knitting
DESCRIPTION:Learn to cast on\, knit\, purl\, bind off\, and how to fix mistakes \nInstructor Karen Dendiu \nRegister here: \nhttps://wac-arts-ed.corsizio.com/event/67a2563512fb71356586891f
URL:https://blueridgefiberguild.org/event/beginner-knitting/
LOCATION:Watauga Arts Council\, 377 Shadowline Drive\, Boone\, NC\, 28607\, United States
CATEGORIES:Fiber Series
ORGANIZER;CN="Blue Ridge Fiber Guild":MAILTO:brfg@blueridgefiberguild.org
END:VEVENT
BEGIN:VEVENT
DTSTART;TZID=America/New_York:20250628T100000
DTEND;TZID=America/New_York:20250628T130000
DTSTAMP:20260423T095057
CREATED:20250209T172313Z
LAST-MODIFIED:20250607T180502Z
UID:1972-1751104800-1751115600@blueridgefiberguild.org
SUMMARY:Coiled Basket Making
DESCRIPTION:At this workshop\, you’ll learn the skills needed to create a small traditional coiled basket with raffia. All materials are included in this workshop.  \nInstructor: Vicki Skywark \nRegister here: \nhttps://wac-arts-ed.corsizio.com/event/67a2561112fb713565868574
URL:https://blueridgefiberguild.org/event/coiled-basket-making/
LOCATION:Watauga Arts Council\, 377 Shadowline Drive\, Boone\, NC\, 28607\, United States
CATEGORIES:Fiber Series
ATTACH;FMTTYPE=image/jpeg:https://blueridgefiberguild.org/wp-content/uploads/2025/02/IMG_0777-1.jpeg
ORGANIZER;CN="Blue Ridge Fiber Guild":MAILTO:brfg@blueridgefiberguild.org
END:VEVENT
BEGIN:VEVENT
DTSTART;TZID=America/New_York:20250524T100000
DTEND;TZID=America/New_York:20250524T130000
DTSTAMP:20260423T095057
CREATED:20250209T171005Z
LAST-MODIFIED:20250210T190558Z
UID:1965-1748080800-1748091600@blueridgefiberguild.org
SUMMARY:Wet Felted Birdhouse
DESCRIPTION:Make a wet-felted pod or birdhouse using wool fibers. \nInstructor: Jane Campbell \nRegister here: \nhttps://wac-arts-ed.corsizio.com/event/67a255e912fb713565867741
URL:https://blueridgefiberguild.org/event/wet-felted-birdhouse/
LOCATION:Watauga Arts Council\, 377 Shadowline Drive\, Boone\, NC\, 28607\, United States
CATEGORIES:Fiber Series
ORGANIZER;CN="Blue Ridge Fiber Guild":MAILTO:brfg@blueridgefiberguild.org
END:VEVENT
BEGIN:VEVENT
DTSTART;TZID=America/New_York:20250426T100000
DTEND;TZID=America/New_York:20250426T130000
DTSTAMP:20260423T095057
CREATED:20250209T170812Z
LAST-MODIFIED:20250210T190319Z
UID:1961-1745661600-1745672400@blueridgefiberguild.org
SUMMARY:Go for a Spin
DESCRIPTION:Prep and practice spinning with a drop spindle and other wheels. \nInstructors: Nancy Embler & Rhonda Gladden \nRegister here:  \nhttps://wac-arts-ed.corsizio.com/event/67a255b812fb713565866a84
URL:https://blueridgefiberguild.org/event/go-for-a-spin/
LOCATION:Watauga Arts Council\, 377 Shadowline Drive\, Boone\, NC\, 28607\, United States
CATEGORIES:Fiber Series
END:VEVENT
END:VCALENDAR