BEGIN:VCALENDAR
VERSION:2.0
PRODID:-//Blue Ridge Fiber Guild - ECPv6.15.20//NONSGML v1.0//EN
CALSCALE:GREGORIAN
METHOD:PUBLISH
X-ORIGINAL-URL:https://blueridgefiberguild.org
X-WR-CALDESC:Events for Blue Ridge Fiber Guild
REFRESH-INTERVAL;VALUE=DURATION:PT1H
X-Robots-Tag:noindex
X-PUBLISHED-TTL:PT1H
BEGIN:VTIMEZONE
TZID:America/New_York
BEGIN:DAYLIGHT
TZOFFSETFROM:-0500
TZOFFSETTO:-0400
TZNAME:EDT
DTSTART:20240310T070000
END:DAYLIGHT
BEGIN:STANDARD
TZOFFSETFROM:-0400
TZOFFSETTO:-0500
TZNAME:EST
DTSTART:20241103T060000
END:STANDARD
BEGIN:DAYLIGHT
TZOFFSETFROM:-0500
TZOFFSETTO:-0400
TZNAME:EDT
DTSTART:20250309T070000
END:DAYLIGHT
BEGIN:STANDARD
TZOFFSETFROM:-0400
TZOFFSETTO:-0500
TZNAME:EST
DTSTART:20251102T060000
END:STANDARD
BEGIN:DAYLIGHT
TZOFFSETFROM:-0500
TZOFFSETTO:-0400
TZNAME:EDT
DTSTART:20260308T070000
END:DAYLIGHT
BEGIN:STANDARD
TZOFFSETFROM:-0400
TZOFFSETTO:-0500
TZNAME:EST
DTSTART:20261101T060000
END:STANDARD
END:VTIMEZONE
BEGIN:VEVENT
DTSTART;TZID=America/New_York:20251213T103000
DTEND;TZID=America/New_York:20251213T130000
DTSTAMP:20260423T183710
CREATED:20251125T165655Z
LAST-MODIFIED:20251125T165655Z
UID:2882-1765621800-1765630800@blueridgefiberguild.org
SUMMARY:Potluck and Fiber Exchange
DESCRIPTION:Please join us for the final (short) meeting of 2025 and our annual holiday potluck and fiber exchange.  We will gather at the Western Watauga Community Center on December 13 at 10:30 a.m.  Bring a dish to share and any fiber or fiber-related items (books\, tools\, etc.) that need to find a new home.  You should find some new treasures for yourself too!
URL:https://blueridgefiberguild.org/event/potluck-and-fiber-exchange/
LOCATION:Western Watauga Community Center\, 1081 Old US Highway 421\, Sugar Grove\, NC\, 28692
CATEGORIES:Member Meeting
END:VEVENT
END:VCALENDAR