BEGIN:VCALENDAR
VERSION:2.0
PRODID:-//Blue Ridge Fiber Guild - ECPv6.15.20//NONSGML v1.0//EN
CALSCALE:GREGORIAN
METHOD:PUBLISH
X-WR-CALNAME:Blue Ridge Fiber Guild
X-ORIGINAL-URL:https://blueridgefiberguild.org
X-WR-CALDESC:Events for Blue Ridge Fiber Guild
REFRESH-INTERVAL;VALUE=DURATION:PT1H
X-Robots-Tag:noindex
X-PUBLISHED-TTL:PT1H
BEGIN:VTIMEZONE
TZID:America/New_York
BEGIN:DAYLIGHT
TZOFFSETFROM:-0500
TZOFFSETTO:-0400
TZNAME:EDT
DTSTART:20250309T070000
END:DAYLIGHT
BEGIN:STANDARD
TZOFFSETFROM:-0400
TZOFFSETTO:-0500
TZNAME:EST
DTSTART:20251102T060000
END:STANDARD
BEGIN:DAYLIGHT
TZOFFSETFROM:-0500
TZOFFSETTO:-0400
TZNAME:EDT
DTSTART:20260308T070000
END:DAYLIGHT
BEGIN:STANDARD
TZOFFSETFROM:-0400
TZOFFSETTO:-0500
TZNAME:EST
DTSTART:20261101T060000
END:STANDARD
BEGIN:DAYLIGHT
TZOFFSETFROM:-0500
TZOFFSETTO:-0400
TZNAME:EDT
DTSTART:20270314T070000
END:DAYLIGHT
BEGIN:STANDARD
TZOFFSETFROM:-0400
TZOFFSETTO:-0500
TZNAME:EST
DTSTART:20271107T060000
END:STANDARD
END:VTIMEZONE
BEGIN:VEVENT
DTSTART;TZID=America/New_York:20260321T103000
DTEND;TZID=America/New_York:20260321T123000
DTSTAMP:20260423T162533
CREATED:20260302T001944Z
LAST-MODIFIED:20260302T002215Z
UID:2920-1774089000-1774096200@blueridgefiberguild.org
SUMMARY:March 2026 Guild Meeting: Studio Tour with Susan Sharpe
DESCRIPTION:
URL:https://blueridgefiberguild.org/event/march-guild-meeting/
LOCATION:Western Watauga Community Center\, 1081 Old US Highway 421\, Sugar Grove\, NC\, 28692
CATEGORIES:Member Meeting
ORGANIZER;CN="Blue Ridge Fiber Guild":MAILTO:brfg@blueridgefiberguild.org
END:VEVENT
BEGIN:VEVENT
DTSTART;TZID=America/New_York:20260328T100000
DTEND;TZID=America/New_York:20260328T130000
DTSTAMP:20260423T162533
CREATED:20260302T004424Z
LAST-MODIFIED:20260302T004424Z
UID:2945-1774692000-1774702800@blueridgefiberguild.org
SUMMARY:Intro to Fiber Workshop Series: Basic Tapestry Weaving
DESCRIPTION:Learn the basics of tapestry loom weaving on a take-home reusable cardboard loom! All materials are provided\, but students are welcome to bring yarn and buttons if they wish. \n\nOpen to students ages 12+\n\nRegister here! \n\nPlease contact the instructor\, Sali Gill-Johnson\, regarding any questions you may have about this workshop: saligilljohnson@gmail.com
URL:https://blueridgefiberguild.org/event/intro-to-fiber-workshop-series-basic-tapestry-weaving/
LOCATION:Watauga Arts Council\, 377 Shadowline Drive\, Boone\, NC\, 28607\, United States
CATEGORIES:Fiber Series
END:VEVENT
BEGIN:VEVENT
DTSTART;TZID=America/New_York:20260418T103000
DTEND;TZID=America/New_York:20260418T123000
DTSTAMP:20260423T162533
CREATED:20260302T002148Z
LAST-MODIFIED:20260302T002148Z
UID:2923-1776508200-1776515400@blueridgefiberguild.org
SUMMARY:April 2026 Guild Meeting - Lucet Workshop with Nancy Embler
DESCRIPTION:
URL:https://blueridgefiberguild.org/event/april-2026-guild-meeting-lucet-workshop-with-nancy-embler/
LOCATION:Watauga Arts Council\, 377 Shadowline Drive\, Boone\, NC\, 28607\, United States
CATEGORIES:Member Meeting
ORGANIZER;CN="Blue Ridge Fiber Guild":MAILTO:brfg@blueridgefiberguild.org
END:VEVENT
BEGIN:VEVENT
DTSTART;TZID=America/New_York:20260425T100000
DTEND;TZID=America/New_York:20260425T130000
DTSTAMP:20260423T162533
CREATED:20260302T003947Z
LAST-MODIFIED:20260302T003947Z
UID:2943-1777111200-1777122000@blueridgefiberguild.org
SUMMARY:Intro to Fiber Workshop Series: Lace Knitting
DESCRIPTION:Take your knitting to the next level by learning how to make knitted lace patterns! Students must have general knitting skills (knit\, purl\, knit 2 together\, slip-slip-knit\, pattern reading) \n\nOpen to adults only (18+)\n\nRegister here! \n\nPlease contact the instructor\, Karen Dendiu\, regarding any questions you may have about this workshop: karen.dendiu@gmail.com
URL:https://blueridgefiberguild.org/event/intro-to-fiber-workshop-series-lace-knitting/
LOCATION:Watauga Arts Council\, 377 Shadowline Drive\, Boone\, NC\, 28607\, United States
CATEGORIES:Fiber Series
END:VEVENT
BEGIN:VEVENT
DTSTART;TZID=America/New_York:20260505T153000
DTEND;TZID=America/New_York:20260505T183000
DTSTAMP:20260423T162533
CREATED:20260302T005145Z
LAST-MODIFIED:20260302T005145Z
UID:2948-1777995000-1778005800@blueridgefiberguild.org
SUMMARY:King Street Market
DESCRIPTION:Visit the Guild and try your hand at knitting or weaving— whatever our members bring to demonstrate. Some crafters bring items to sell! It’s a fun event subject to weather\, so check the forecast before setting out. 
URL:https://blueridgefiberguild.org/event/king-street-market-3/
LOCATION:King Street Market\, 126 Poplar Grove Connector\, Boone\, NC\, 28607\, United States
END:VEVENT
BEGIN:VEVENT
DTSTART;TZID=America/New_York:20260516T103000
DTEND;TZID=America/New_York:20260516T123000
DTSTAMP:20260423T162533
CREATED:20260302T002338Z
LAST-MODIFIED:20260302T004809Z
UID:2926-1778927400-1778934600@blueridgefiberguild.org
SUMMARY:May 2026 Guild Meeting: Fiber Frolic at Hickory Ridge
DESCRIPTION:For our May 2026 Meeting\, the Guild will gather at Southern Appalachian Historical Association’s Fiber Frolic\, held at Hickory Ridge History Museum\,  located at the top of Watauga Farmers’ Market and Daniel Boone Native Garden. Please come out and demonstrate your traditional fiber craft and/or clothing!
URL:https://blueridgefiberguild.org/event/may-2026-guild-meeting-fiber-frolic-at-hickory-ridge/
LOCATION:Hickory Ridge History Museum\, 591 Horn in the West Drive\, Boone\, NC\, 28607
CATEGORIES:Member Meeting
ORGANIZER;CN="Blue Ridge Fiber Guild":MAILTO:brfg@blueridgefiberguild.org
END:VEVENT
BEGIN:VEVENT
DTSTART;VALUE=DATE:20260601
DTEND;VALUE=DATE:20260701
DTSTAMP:20260423T162533
CREATED:20260302T010100Z
LAST-MODIFIED:20260302T010100Z
UID:2961-1780272000-1782863999@blueridgefiberguild.org
SUMMARY:Jones House Exhibit
DESCRIPTION:More Information Coming Soon!
URL:https://blueridgefiberguild.org/event/jones-house-exhibit/
LOCATION:Jones House Cultural and Community Center\, 604 W King Street\, Boone\, NC\, 28607
CATEGORIES:Exhibits and Shows
END:VEVENT
BEGIN:VEVENT
DTSTART;TZID=America/New_York:20260602T153000
DTEND;TZID=America/New_York:20260602T183000
DTSTAMP:20260423T162533
CREATED:20260302T005309Z
LAST-MODIFIED:20260302T005309Z
UID:2951-1780414200-1780425000@blueridgefiberguild.org
SUMMARY:King Street Market
DESCRIPTION:Visit the Guild and try your hand at knitting or weaving— whatever our members bring to demonstrate. Some crafters bring items to sell! It’s a fun event subject to weather\, so check the forecast before setting out. 
URL:https://blueridgefiberguild.org/event/king-street-market-4/
LOCATION:King Street Market\, 126 Poplar Grove Connector\, Boone\, NC\, 28607\, United States
END:VEVENT
BEGIN:VEVENT
DTSTART;TZID=America/New_York:20260606T080000
DTEND;TZID=America/New_York:20260607T170000
DTSTAMP:20260423T162533
CREATED:20260302T012101Z
LAST-MODIFIED:20260302T012101Z
UID:2963-1780732800-1780851600@blueridgefiberguild.org
SUMMARY:Blue Ridge Fiber Fest
DESCRIPTION:
URL:https://blueridgefiberguild.org/event/blue-ridge-fiber-fest/
LOCATION:Higgins Fairgrounds\, 1375 US-21\, Sparta\, NC\, 28675\, United States
END:VEVENT
BEGIN:VEVENT
DTSTART;TZID=America/New_York:20260620T103000
DTEND;TZID=America/New_York:20260620T123000
DTSTAMP:20260423T162533
CREATED:20260302T002441Z
LAST-MODIFIED:20260303T155357Z
UID:2928-1781951400-1781958600@blueridgefiberguild.org
SUMMARY:June 2026 Guild Meeting: Coiled Baskets with Vicki Skywark
DESCRIPTION:Wind your way to a beautiful coiled basket at this workshop! You’ll learn the skills of this ancient craft developed around the world utilizing natural and found materials. \nBring your own materials such as twine\, scrap yarn\, rush or plant fiber; cordage made from plastic or paper bags. You’ll also need a tapestry needle\, sharp scissors\, and a willingness to experiment as you build a container for your creative imaginings. Basic materials will be available at the meeting. 
URL:https://blueridgefiberguild.org/event/june-2026-guild-meeting-coiled-baskets-with-vicki-skywark/
LOCATION:Watauga Arts Council\, 377 Shadowline Drive\, Boone\, NC\, 28607\, United States
CATEGORIES:Member Meeting
ATTACH;FMTTYPE=image/jpeg:https://blueridgefiberguild.org/wp-content/uploads/2026/03/IMG_1130-e1772553417609.jpeg
ORGANIZER;CN="Blue Ridge Fiber Guild":MAILTO:brfg@blueridgefiberguild.org
END:VEVENT
BEGIN:VEVENT
DTSTART;TZID=America/New_York:20260702T153000
DTEND;TZID=America/New_York:20260702T183000
DTSTAMP:20260423T162533
CREATED:20260302T005356Z
LAST-MODIFIED:20260302T005356Z
UID:2953-1783006200-1783017000@blueridgefiberguild.org
SUMMARY:King Street Market
DESCRIPTION:Visit the Guild and try your hand at knitting or weaving— whatever our members bring to demonstrate. Some crafters bring items to sell! It’s a fun event subject to weather\, so check the forecast before setting out. 
URL:https://blueridgefiberguild.org/event/king-street-market-5/
LOCATION:King Street Market\, 126 Poplar Grove Connector\, Boone\, NC\, 28607\, United States
END:VEVENT
BEGIN:VEVENT
DTSTART;TZID=America/New_York:20260718T103000
DTEND;TZID=America/New_York:20260718T123000
DTSTAMP:20260423T162533
CREATED:20260302T002543Z
LAST-MODIFIED:20260302T002543Z
UID:2930-1784370600-1784377800@blueridgefiberguild.org
SUMMARY:July 2026 Guild Meeting: Picnic and Fiber Exchange
DESCRIPTION:
URL:https://blueridgefiberguild.org/event/july-2026-guild-meeting-picnic-and-fiber-exchange/
LOCATION:Brookshire Park Picnic Shelter\, 250 Brookshire Rd\, Boone\, NC\, 28607\, United States
CATEGORIES:Member Meeting
ORGANIZER;CN="Blue Ridge Fiber Guild":MAILTO:brfg@blueridgefiberguild.org
END:VEVENT
BEGIN:VEVENT
DTSTART;TZID=America/New_York:20260804T153000
DTEND;TZID=America/New_York:20260804T183000
DTSTAMP:20260423T162533
CREATED:20260302T005437Z
LAST-MODIFIED:20260302T005437Z
UID:2955-1785857400-1785868200@blueridgefiberguild.org
SUMMARY:King Street Market
DESCRIPTION:Visit the Guild and try your hand at knitting or weaving— whatever our members bring to demonstrate. Some crafters bring items to sell! It’s a fun event subject to weather\, so check the forecast before setting out. 
URL:https://blueridgefiberguild.org/event/king-street-market-6/
LOCATION:King Street Market\, 126 Poplar Grove Connector\, Boone\, NC\, 28607\, United States
END:VEVENT
BEGIN:VEVENT
DTSTART;TZID=America/New_York:20260815T103000
DTEND;TZID=America/New_York:20260815T123000
DTSTAMP:20260423T162533
CREATED:20260302T002642Z
LAST-MODIFIED:20260302T002642Z
UID:2932-1786789800-1786797000@blueridgefiberguild.org
SUMMARY:August 2026 Meeting: Photography and Marketing with Sj Bender
DESCRIPTION:
URL:https://blueridgefiberguild.org/event/august-2026-meeting-photography-and-marketing-with-sj-bender/
LOCATION:Watauga Arts Council\, 377 Shadowline Drive\, Boone\, NC\, 28607\, United States
CATEGORIES:Member Meeting
ORGANIZER;CN="Blue Ridge Fiber Guild":MAILTO:brfg@blueridgefiberguild.org
END:VEVENT
BEGIN:VEVENT
DTSTART;TZID=America/New_York:20260901T153000
DTEND;TZID=America/New_York:20260901T183000
DTSTAMP:20260423T162533
CREATED:20260302T005552Z
LAST-MODIFIED:20260302T005552Z
UID:2957-1788276600-1788287400@blueridgefiberguild.org
SUMMARY:King Street Market
DESCRIPTION:Visit the Guild and try your hand at knitting or weaving— whatever our members bring to demonstrate. Some crafters bring items to sell! It’s a fun event subject to weather\, so check the forecast before setting out. 
URL:https://blueridgefiberguild.org/event/king-street-market-7/
LOCATION:King Street Market\, 126 Poplar Grove Connector\, Boone\, NC\, 28607\, United States
END:VEVENT
BEGIN:VEVENT
DTSTART;TZID=America/New_York:20260919T103000
DTEND;TZID=America/New_York:20260919T123000
DTSTAMP:20260423T162533
CREATED:20260302T002754Z
LAST-MODIFIED:20260302T002754Z
UID:2934-1789813800-1789821000@blueridgefiberguild.org
SUMMARY:September 2026 Guild Meeting: Wet Felted Pouches with Jane Campbell
DESCRIPTION:
URL:https://blueridgefiberguild.org/event/september-2026-guild-meeting-wet-felted-pouches-with-jane-campbell/
LOCATION:Western Watauga Community Center\, 1081 Old US Highway 421\, Sugar Grove\, NC\, 28692
CATEGORIES:Member Meeting
ORGANIZER;CN="Blue Ridge Fiber Guild":MAILTO:brfg@blueridgefiberguild.org
END:VEVENT
BEGIN:VEVENT
DTSTART;TZID=America/New_York:20261006T080000
DTEND;TZID=America/New_York:20261006T170000
DTSTAMP:20260423T162533
CREATED:20260302T005636Z
LAST-MODIFIED:20260302T005636Z
UID:2959-1791273600-1791306000@blueridgefiberguild.org
SUMMARY:King Street Market
DESCRIPTION:Visit the Guild and try your hand at knitting or weaving— whatever our members bring to demonstrate. Some crafters bring items to sell! It’s a fun event subject to weather\, so check the forecast before setting out. 
URL:https://blueridgefiberguild.org/event/king-street-market-8/
LOCATION:King Street Market\, 126 Poplar Grove Connector\, Boone\, NC\, 28607\, United States
END:VEVENT
BEGIN:VEVENT
DTSTART;TZID=America/New_York:20261017T103000
DTEND;TZID=America/New_York:20261017T123000
DTSTAMP:20260423T162533
CREATED:20260302T003023Z
LAST-MODIFIED:20260302T003023Z
UID:2936-1792233000-1792240200@blueridgefiberguild.org
SUMMARY:October 2026 Guild Meeting: BRAHM Tour with Kayla Reische
DESCRIPTION:
URL:https://blueridgefiberguild.org/event/october-2026-guild-meeting-brahm-tour-with-kayla-reische/
LOCATION:Blowing Rock Art and History Museum\, 159 Ginny Stevens Ln\, Blowing Rock\, NC\, 28605\, United States
CATEGORIES:Member Meeting
END:VEVENT
BEGIN:VEVENT
DTSTART;VALUE=DATE:20261023
DTEND;VALUE=DATE:20261026
DTSTAMP:20260423T162533
CREATED:20260302T012525Z
LAST-MODIFIED:20260302T012525Z
UID:2967-1792713600-1792972799@blueridgefiberguild.org
SUMMARY:Southeastern Animal Fiber Fair 2026
DESCRIPTION:
URL:https://blueridgefiberguild.org/event/southeastern-animal-fiber-fair-2026/
LOCATION:WNC Agricultural Center (Gate 7)\, 761 Boylston Hwy\, Fletcher\, NC\, 28732\, United States
END:VEVENT
BEGIN:VEVENT
DTSTART;TZID=America/New_York:20261121T103000
DTEND;TZID=America/New_York:20261121T123000
DTSTAMP:20260423T162533
CREATED:20260302T003134Z
LAST-MODIFIED:20260302T003134Z
UID:2939-1795257000-1795264200@blueridgefiberguild.org
SUMMARY:November 2026 Guild Meeting: Historical Weaving Research with Deborah Carroll
DESCRIPTION:
URL:https://blueridgefiberguild.org/event/november-2026-guild-meeting-historical-weaving-research-with-deborah-carroll/
LOCATION:Watauga Arts Council\, 377 Shadowline Drive\, Boone\, NC\, 28607\, United States
CATEGORIES:Member Meeting
ORGANIZER;CN="Blue Ridge Fiber Guild":MAILTO:brfg@blueridgefiberguild.org
END:VEVENT
BEGIN:VEVENT
DTSTART;TZID=America/New_York:20261212T103000
DTEND;TZID=America/New_York:20261212T123000
DTSTAMP:20260423T162533
CREATED:20260302T003219Z
LAST-MODIFIED:20260302T003219Z
UID:2941-1797071400-1797078600@blueridgefiberguild.org
SUMMARY:December 2026 Guild Meeting: Holiday Party and Fiber Exchange
DESCRIPTION:
URL:https://blueridgefiberguild.org/event/december-2026-guild-meeting-holiday-party-and-fiber-exchange/
LOCATION:Western Watauga Community Center\, 1081 Old US Highway 421\, Sugar Grove\, NC\, 28692
CATEGORIES:Member Meeting
ORGANIZER;CN="Blue Ridge Fiber Guild":MAILTO:brfg@blueridgefiberguild.org
END:VEVENT
END:VCALENDAR