BEGIN:VCALENDAR
VERSION:2.0
PRODID:-//Blue Ridge Fiber Guild - ECPv6.15.20//NONSGML v1.0//EN
CALSCALE:GREGORIAN
METHOD:PUBLISH
X-WR-CALNAME:Blue Ridge Fiber Guild
X-ORIGINAL-URL:https://blueridgefiberguild.org
X-WR-CALDESC:Events for Blue Ridge Fiber Guild
REFRESH-INTERVAL;VALUE=DURATION:PT1H
X-Robots-Tag:noindex
X-PUBLISHED-TTL:PT1H
BEGIN:VTIMEZONE
TZID:America/New_York
BEGIN:DAYLIGHT
TZOFFSETFROM:-0500
TZOFFSETTO:-0400
TZNAME:EDT
DTSTART:20250309T070000
END:DAYLIGHT
BEGIN:STANDARD
TZOFFSETFROM:-0400
TZOFFSETTO:-0500
TZNAME:EST
DTSTART:20251102T060000
END:STANDARD
BEGIN:DAYLIGHT
TZOFFSETFROM:-0500
TZOFFSETTO:-0400
TZNAME:EDT
DTSTART:20260308T070000
END:DAYLIGHT
BEGIN:STANDARD
TZOFFSETFROM:-0400
TZOFFSETTO:-0500
TZNAME:EST
DTSTART:20261101T060000
END:STANDARD
BEGIN:DAYLIGHT
TZOFFSETFROM:-0500
TZOFFSETTO:-0400
TZNAME:EDT
DTSTART:20270314T070000
END:DAYLIGHT
BEGIN:STANDARD
TZOFFSETFROM:-0400
TZOFFSETTO:-0500
TZNAME:EST
DTSTART:20271107T060000
END:STANDARD
END:VTIMEZONE
BEGIN:VEVENT
DTSTART;VALUE=DATE:20261023
DTEND;VALUE=DATE:20261026
DTSTAMP:20260423T182106
CREATED:20260302T012525Z
LAST-MODIFIED:20260302T012525Z
UID:2967-1792713600-1792972799@blueridgefiberguild.org
SUMMARY:Southeastern Animal Fiber Fair 2026
DESCRIPTION:
URL:https://blueridgefiberguild.org/event/southeastern-animal-fiber-fair-2026/
LOCATION:WNC Agricultural Center (Gate 7)\, 761 Boylston Hwy\, Fletcher\, NC\, 28732\, United States
END:VEVENT
BEGIN:VEVENT
DTSTART;TZID=America/New_York:20261121T103000
DTEND;TZID=America/New_York:20261121T123000
DTSTAMP:20260423T182106
CREATED:20260302T003134Z
LAST-MODIFIED:20260302T003134Z
UID:2939-1795257000-1795264200@blueridgefiberguild.org
SUMMARY:November 2026 Guild Meeting: Historical Weaving Research with Deborah Carroll
DESCRIPTION:
URL:https://blueridgefiberguild.org/event/november-2026-guild-meeting-historical-weaving-research-with-deborah-carroll/
LOCATION:Watauga Arts Council\, 377 Shadowline Drive\, Boone\, NC\, 28607\, United States
CATEGORIES:Member Meeting
ORGANIZER;CN="Blue Ridge Fiber Guild":MAILTO:brfg@blueridgefiberguild.org
END:VEVENT
BEGIN:VEVENT
DTSTART;TZID=America/New_York:20261212T103000
DTEND;TZID=America/New_York:20261212T123000
DTSTAMP:20260423T182106
CREATED:20260302T003219Z
LAST-MODIFIED:20260302T003219Z
UID:2941-1797071400-1797078600@blueridgefiberguild.org
SUMMARY:December 2026 Guild Meeting: Holiday Party and Fiber Exchange
DESCRIPTION:
URL:https://blueridgefiberguild.org/event/december-2026-guild-meeting-holiday-party-and-fiber-exchange/
LOCATION:Western Watauga Community Center\, 1081 Old US Highway 421\, Sugar Grove\, NC\, 28692
CATEGORIES:Member Meeting
ORGANIZER;CN="Blue Ridge Fiber Guild":MAILTO:brfg@blueridgefiberguild.org
END:VEVENT
END:VCALENDAR